BEGIN:VCALENDAR
VERSION:2.0
PRODID:-//Plone.org//NONSGML plone.app.event//EN
X-WR-TIMEZONE:Europe/Madrid
BEGIN:VEVENT
SUMMARY:MAMA, PAPA! LLEGIU-ME UN CONTE!
DTSTART;TZID=Europe/Madrid;VALUE=DATE-TIME:20170407T180000
DTEND;TZID=Europe/Madrid;VALUE=DATE-TIME:20170407T190000
DTSTAMP;VALUE=DATE-TIME:20260422T030716Z
UID:45bf1a95587e775249ff61b9a4b42145
CREATED;VALUE=DATE-TIME:20170407T000000Z
CATEGORIES:Literatura,Infantils
LOCATION:Biblioteca Can Milans
ORGANIZER:Biblioteca Can Milans
COMMENT:Preu: Gratuït
DESCRIPTION:A càrrec d'Àlex Espinosa i Sandra Herce
URL:https://caldetes.cat/document.php?id=5635
END:VEVENT
END:VCALENDAR