BEGIN:VCALENDAR
VERSION:2.0
PRODID:-//Plone.org//NONSGML plone.app.event//EN
X-WR-TIMEZONE:Europe/Madrid
BEGIN:VEVENT
SUMMARY:HORA DEL CONTE
DTSTART;TZID=Europe/Madrid;VALUE=DATE-TIME:20170428T170000
DTEND;TZID=Europe/Madrid;VALUE=DATE-TIME:20170428T180000
DTSTAMP;VALUE=DATE-TIME:20260426T062605Z
UID:d2118e644162b2ab6ec6b236a9cdff00
CREATED;VALUE=DATE-TIME:20170428T000000Z
CATEGORIES:Literatura,Infantils
LOCATION:Escola Sagrada Família
ORGANIZER:Biblioteca Can Milans
DESCRIPTION:A càrrec de Lídia Clua
URL:https://caldetes.cat/document.php?id=5638
END:VEVENT
END:VCALENDAR