BEGIN:VCALENDAR
VERSION:2.0
PRODID:-//Plone.org//NONSGML plone.app.event//EN
X-WR-TIMEZONE:Europe/Madrid
BEGIN:VEVENT
SUMMARY:VISITA ESCOLAR: 6è visita la biblioteca
DTSTART;TZID=Europe/Madrid;VALUE=DATE-TIME:20170524T100000
DTEND;TZID=Europe/Madrid;VALUE=DATE-TIME:20170524T110000
DTSTAMP;VALUE=DATE-TIME:20260424T142919Z
UID:110038af80098d29a6b27a9b8e8cdbb8
CREATED;VALUE=DATE-TIME:20170524T000000Z
CATEGORIES:Literatura,Infantils
LOCATION:Biblioteca Can Milans
ORGANIZER:Biblioteca Can Milans
DESCRIPTION:Tertúlia literària amb l'escriptor Pep Blay sobre el seu llibre "Gotholàndia".
URL:https://caldetes.cat/document.php?id=5643
END:VEVENT
END:VCALENDAR