BEGIN:VCALENDAR
VERSION:2.0
PRODID:-//Plone.org//NONSGML plone.app.event//EN
X-WR-TIMEZONE:Europe/Madrid
BEGIN:VEVENT
SUMMARY:L'Escola Mou Caldes
DTSTART;TZID=Europe/Madrid;VALUE=DATE-TIME:20170507T120000
DTEND;TZID=Europe/Madrid;VALUE=DATE-TIME:20170507T130000
DTSTAMP;VALUE=DATE-TIME:20260425T223725Z
UID:17ed8d283d0eac8b1b3d9da7a33be9ac
CREATED;VALUE=DATE-TIME:20170507T000000Z
CATEGORIES:Esports
LOCATION:Esplanada Can Muntanyà
ORGANIZER:AMPA
COMMENT:Durada: A partir de les 12h
DESCRIPTION:Passejada lúdica i solidària pel municipi
URL:https://caldetes.cat/document.php?id=5652
END:VEVENT
END:VCALENDAR