BEGIN:VCALENDAR
VERSION:2.0
PRODID:-//Plone.org//NONSGML plone.app.event//EN
X-WR-TIMEZONE:Europe/Madrid
BEGIN:VEVENT
SUMMARY:Mercat de segona mà
DTSTART;TZID=Europe/Madrid;VALUE=DATE-TIME:20170514T090000
DTEND;TZID=Europe/Madrid;VALUE=DATE-TIME:20170514T100000
DTSTAMP;VALUE=DATE-TIME:20260425T004421Z
UID:d924d2ea6e1cb74cc466e87bf0f9d910
CREATED;VALUE=DATE-TIME:20170514T000000Z
CATEGORIES:Mostra
LOCATION:Esplanada Can Muntanyà
ORGANIZER:Àrea de Promoció Econòmica
COMMENT:Durada: De 9h a 15h
DESCRIPTION:Digues sí al consum responsable!
URL:https://caldetes.cat/document.php?id=5654
END:VEVENT
END:VCALENDAR