BEGIN:VCALENDAR
VERSION:2.0
PRODID:-//Plone.org//NONSGML plone.app.event//EN
X-WR-TIMEZONE:Europe/Madrid
BEGIN:VEVENT
SUMMARY:Cuina sense pares
DTSTART;TZID=Europe/Madrid;VALUE=DATE-TIME:20170315T173000
DTEND;TZID=Europe/Madrid;VALUE=DATE-TIME:20170315T183000
DTSTAMP;VALUE=DATE-TIME:20260424T011941Z
UID:a1c01c47f2b0538d31550dfe03218e53
CREATED;VALUE=DATE-TIME:20170315T000000Z
CATEGORIES:Cursos
LOCATION:Espai Jove
ORGANIZER:Espai Jove
COMMENT:Preu: Gratuït
Durada: Els dimecres 15, 22 i 29 de març, de 17.30 a 19.30h
DESCRIPTION:Taller gratuït a l'Espai Jove
URL:https://caldetes.cat/document.php?id=5702
END:VEVENT
END:VCALENDAR