BEGIN:VCALENDAR
VERSION:2.0
PRODID:-//Plone.org//NONSGML plone.app.event//EN
X-WR-TIMEZONE:Europe/Madrid
BEGIN:VEVENT
SUMMARY:Tallers de Cuina Jove
DTSTART;TZID=Europe/Madrid;VALUE=DATE-TIME:20170322T173000
DTEND;TZID=Europe/Madrid;VALUE=DATE-TIME:20170322T183000
DTSTAMP;VALUE=DATE-TIME:20260423T082218Z
UID:a00f6e34126f41c5de667413e965a3fc
CREATED;VALUE=DATE-TIME:20170322T000000Z
LOCATION:Espai Jove
ORGANIZER:Àrea de Joventut
COMMENT:Preu: Gratuït
Durada: dies 15, 22 i 29 de març, de 17:30h a 19:30h
DESCRIPTION:Cuina sense pares
URL:https://caldetes.cat/document.php?id=5703
END:VEVENT
END:VCALENDAR