BEGIN:VCALENDAR
VERSION:2.0
PRODID:-//Plone.org//NONSGML plone.app.event//EN
X-WR-TIMEZONE:Europe/Madrid
BEGIN:VEVENT
SUMMARY:Tallers de Cuina Jove
DTSTART;TZID=Europe/Madrid;VALUE=DATE-TIME:20170329T173000
DTEND;TZID=Europe/Madrid;VALUE=DATE-TIME:20170329T183000
DTSTAMP;VALUE=DATE-TIME:20260423T055407Z
UID:34c90e069600e93feb8872f8ce4e47ac
CREATED;VALUE=DATE-TIME:20170329T000000Z
LOCATION:Espai Jove
ORGANIZER:Àrea de Joventut
COMMENT:Preu: Gratuït
Durada: dies 15, 22 i 29 de març, de 17:30h a 19:30h
DESCRIPTION:Cuina sense pares
URL:https://caldetes.cat/document.php?id=5704
END:VEVENT
END:VCALENDAR