BEGIN:VCALENDAR
VERSION:2.0
PRODID:-//Plone.org//NONSGML plone.app.event//EN
X-WR-TIMEZONE:Europe/Madrid
BEGIN:VEVENT
SUMMARY:Paraula de dona
DTSTART;TZID=Europe/Madrid;VALUE=DATE-TIME:20170310T190000
DTEND;TZID=Europe/Madrid;VALUE=DATE-TIME:20170310T200000
DTSTAMP;VALUE=DATE-TIME:20260421T235807Z
UID:bfe035783ece12b7a52937a02dc20ed6
CREATED;VALUE=DATE-TIME:20170310T000000Z
CATEGORIES:Literatura
LOCATION:Miscel·lània - Camí Ral, 23, local
ORGANIZER:Miscel·lània
COMMENT:Preu: Gratuït
DESCRIPTION:Lectura col·lectiva de poemes i textos escrits per dones amb motiu del Dia Internacional de la Dona Treballadora
URL:https://caldetes.cat/document.php?id=5705
END:VEVENT
END:VCALENDAR