BEGIN:VCALENDAR
VERSION:2.0
PRODID:-//Plone.org//NONSGML plone.app.event//EN
X-WR-TIMEZONE:Europe/Madrid
BEGIN:VEVENT
SUMMARY:Cant Coral
DTSTART;TZID=Europe/Madrid;VALUE=DATE-TIME:20170421T200000
DTEND;TZID=Europe/Madrid;VALUE=DATE-TIME:20170421T210000
DTSTAMP;VALUE=DATE-TIME:20260422T012446Z
UID:4b44726a2285e892b87724a62cd1e3fa
CREATED;VALUE=DATE-TIME:20170421T000000Z
CATEGORIES:Cursos
LOCATION:Sala Cultural
ORGANIZER:Àrea de Cultura
COMMENT:Durada: 21 i 28 d'abril, 5,12,19 i 26 de maig de 20h a 22h
DESCRIPTION:Taller
URL:https://caldetes.cat/document.php?id=5719
END:VEVENT
END:VCALENDAR