BEGIN:VCALENDAR
VERSION:2.0
PRODID:-//Plone.org//NONSGML plone.app.event//EN
X-WR-TIMEZONE:Europe/Madrid
BEGIN:VEVENT
SUMMARY:Cant Coral
DTSTART;TZID=Europe/Madrid;VALUE=DATE-TIME:20170519T200000
DTEND;TZID=Europe/Madrid;VALUE=DATE-TIME:20170519T210000
DTSTAMP;VALUE=DATE-TIME:20260424T220355Z
UID:0d71e78960fcf8ce0d5ca301f5c87d02
CREATED;VALUE=DATE-TIME:20170519T000000Z
CATEGORIES:Cursos
LOCATION:Sala Cultural
ORGANIZER:Àrea de Cultura
COMMENT:Durada: 21 i 28 d'abril, 5,12,19 i 26 de maig de 20h a 22h
DESCRIPTION:Taller
URL:https://caldetes.cat/document.php?id=5722
END:VEVENT
END:VCALENDAR