BEGIN:VCALENDAR
VERSION:2.0
PRODID:-//Plone.org//NONSGML plone.app.event//EN
X-WR-TIMEZONE:Europe/Madrid
BEGIN:VEVENT
SUMMARY:Informàtica per a Gent Gran
DTSTART;TZID=Europe/Madrid;VALUE=DATE-TIME:20170328T160000
DTEND;TZID=Europe/Madrid;VALUE=DATE-TIME:20170328T170000
DTSTAMP;VALUE=DATE-TIME:20260424T071142Z
UID:91909258e11c80a4b8f69f93bcdc792b
CREATED;VALUE=DATE-TIME:20170328T000000Z
CATEGORIES:Cursos
LOCATION:La Fabriqueta
ORGANIZER:Àrea d'Acció Social
COMMENT:Preu: Gratuït
Durada: Tots els dimarts fins al mes de juny
URL:https://caldetes.cat/document.php?id=5727
END:VEVENT
END:VCALENDAR