BEGIN:VCALENDAR
VERSION:2.0
PRODID:-//Plone.org//NONSGML plone.app.event//EN
X-WR-TIMEZONE:Europe/Madrid
BEGIN:VEVENT
SUMMARY:PROMOCIÓ DIA DEL PARE
DTSTART;TZID=Europe/Madrid;VALUE=DATE-TIME:20170319T093000
DTEND;TZID=Europe/Madrid;VALUE=DATE-TIME:20170319T103000
DTSTAMP;VALUE=DATE-TIME:20260422T164356Z
UID:ff94aa9ac6dc35f3c96d9439ea8f3ffc
CREATED;VALUE=DATE-TIME:20170319T000000Z
CATEGORIES:Esports
LOCATION:Complex Esportiu Municipal
ORGANIZER:Sige 2005, s.l.
COMMENT:Durada: Diumenge 19 de març, de 9.30 a 13.30 hores
DESCRIPTION:Jornada de portes obertes. Veniu en familia!
URL:https://caldetes.cat/document.php?id=5731
END:VEVENT
END:VCALENDAR