BEGIN:VCALENDAR
VERSION:2.0
PRODID:-//Plone.org//NONSGML plone.app.event//EN
X-WR-TIMEZONE:Europe/Madrid
BEGIN:VEVENT
SUMMARY:Festival Poesia i +
DTSTART;TZID=Europe/Madrid;VALUE=DATE-TIME:20100702T220000
DTEND;TZID=Europe/Madrid;VALUE=DATE-TIME:20100702T230000
DTSTAMP;VALUE=DATE-TIME:20260425T030138Z
UID:b13e430212f6f6b69b7fc2ef24e0d835
CREATED;VALUE=DATE-TIME:20100702T000000Z
LOCATION:Fundació Palau
ORGANIZER:Fundació Palau i Ajuntament de Caldes d'Estrac amb el suport de la Institució de les Lletres Catalanes de la Generalitat de Catalunya
COMMENT:Preu: 6 &euro;
DESCRIPTION:ROSA LEVERONI amb  Big Mama i Teresa d´Arenys
URL:https://caldetes.cat/document.php?id=575
END:VEVENT
END:VCALENDAR