BEGIN:VCALENDAR
VERSION:2.0
PRODID:-//Plone.org//NONSGML plone.app.event//EN
X-WR-TIMEZONE:Europe/Madrid
BEGIN:VEVENT
SUMMARY:Gran dissabte d'Handbol a Caldes d'Estrac
DTSTART;TZID=Europe/Madrid;VALUE=DATE-TIME:20170325T160000
DTEND;TZID=Europe/Madrid;VALUE=DATE-TIME:20170325T170000
DTSTAMP;VALUE=DATE-TIME:20260423T090815Z
UID:092cc0ec7267ed5f042f764b38627a79
CREATED;VALUE=DATE-TIME:20170325T000000Z
CATEGORIES:Esports
LOCATION:Pavelló Poliesportiu Municipal - Carretera N-II, km 654
URL:https://caldetes.cat/document.php?id=5750
END:VEVENT
END:VCALENDAR