BEGIN:VCALENDAR
VERSION:2.0
PRODID:-//Plone.org//NONSGML plone.app.event//EN
X-WR-TIMEZONE:Europe/Madrid
BEGIN:VEVENT
SUMMARY:Taller de Rap i Rima
DTSTART;TZID=Europe/Madrid;VALUE=DATE-TIME:20170515T173000
DTEND;TZID=Europe/Madrid;VALUE=DATE-TIME:20170515T183000
DTSTAMP;VALUE=DATE-TIME:20260426T035245Z
UID:80df2044eece98db7c88a7b53746768d
CREATED;VALUE=DATE-TIME:20170512T000000Z
LOCATION:Espai Jove - Crtra. N II, Km 654
ORGANIZER:Àrea de Joventut
COMMENT:Preu: Gratuït
Durada: dies 12, 15, 19 de maig, de 17:30h a 19:30h i diumenge dia 21 de maig, actuació final
DESCRIPTION:Rap i Rima Antiracista amb Pau Llonch
URL:https://caldetes.cat/document.php?id=5756
END:VEVENT
END:VCALENDAR