BEGIN:VCALENDAR
VERSION:2.0
PRODID:-//Plone.org//NONSGML plone.app.event//EN
X-WR-TIMEZONE:Europe/Madrid
BEGIN:VEVENT
SUMMARY:3r Campionat Intermunicipal de Tennis-Taula
DTSTART;TZID=Europe/Madrid;VALUE=DATE-TIME:20100709T000000
DTEND;TZID=Europe/Madrid;VALUE=DATE-TIME:20100709T010000
DTSTAMP;VALUE=DATE-TIME:20260425T185943Z
UID:9a7bd7333106a85f6a4dc779c172445e
CREATED;VALUE=DATE-TIME:20100709T000000Z
LOCATION:Espai Jove
ORGANIZER:Àrees de Joventut i Educació
URL:https://caldetes.cat/document.php?id=577
END:VEVENT
END:VCALENDAR