BEGIN:VCALENDAR
VERSION:2.0
PRODID:-//Plone.org//NONSGML plone.app.event//EN
X-WR-TIMEZONE:Europe/Madrid
BEGIN:VEVENT
SUMMARY:L'OMIC visita Caldes d'Estrac
DTSTART;TZID=Europe/Madrid;VALUE=DATE-TIME:20170428T103000
DTEND;TZID=Europe/Madrid;VALUE=DATE-TIME:20170428T113000
DTSTAMP;VALUE=DATE-TIME:20260423T062412Z
UID:d616986074e5c2cf8eb7d340d0f46d02
CREATED;VALUE=DATE-TIME:20170428T000000Z
LOCATION:Esplanada Can Muntanyà
ORGANIZER:L' OPIC en col·laboració amb l'Ajuntament de Caldes d'Estrac
DESCRIPTION:Servei d'Informació al Consumidor
URL:https://caldetes.cat/document.php?id=5774
END:VEVENT
END:VCALENDAR