BEGIN:VCALENDAR
VERSION:2.0
PRODID:-//Plone.org//NONSGML plone.app.event//EN
X-WR-TIMEZONE:Europe/Madrid
BEGIN:VEVENT
SUMMARY:Sant Jordi 2017
DTSTART;TZID=Europe/Madrid;VALUE=DATE-TIME:20170423T090000
DTEND;TZID=Europe/Madrid;VALUE=DATE-TIME:20170423T100000
DTSTAMP;VALUE=DATE-TIME:20260423T074302Z
UID:a31255d7992d98369c61127d7fe88e32
CREATED;VALUE=DATE-TIME:20170423T000000Z
LOCATION:Esplanada Can Muntanyà
ORGANIZER:Àrea de Cultura, Fundació Palau, Biblioteca Can Milans. Amb el suport de l'Associació Amics del Teatre, La Paella Viatgera i Miscel·lània
COMMENT:Preu: Gratuït
DESCRIPTION:Programa d'activitats culturals entorn la Diada de Sant Jordi i l'Any Palau i Fabre
URL:https://caldetes.cat/document.php?id=5778
END:VEVENT
END:VCALENDAR