BEGIN:VCALENDAR
VERSION:2.0
PRODID:-//Plone.org//NONSGML plone.app.event//EN
X-WR-TIMEZONE:Europe/Madrid
BEGIN:VEVENT
SUMMARY:Sortida per veure &OpenCurlyDoubleQuote;LA PASSIÓ D'ESPARREGUERA&CloseCurlyDoubleQuote;
DTSTART;TZID=Europe/Madrid;VALUE=DATE-TIME:20170501T070000
DTEND;TZID=Europe/Madrid;VALUE=DATE-TIME:20170501T080000
DTSTAMP;VALUE=DATE-TIME:20260422T180816Z
UID:2f9dd2b70f88c035e8b7e970b7ada20e
CREATED;VALUE=DATE-TIME:20170501T000000Z
ORGANIZER:Agrupació de pensionistes i tercera edat
COMMENT:Preu: 53 euros
Durada: Sortida a les 7h des dels punts habituals
DESCRIPTION:Agrupació de pensionistes i tercera edat
URL:https://caldetes.cat/document.php?id=5781
END:VEVENT
END:VCALENDAR