BEGIN:VCALENDAR
VERSION:2.0
PRODID:-//Plone.org//NONSGML plone.app.event//EN
X-WR-TIMEZONE:Europe/Madrid
BEGIN:VEVENT
SUMMARY:Concert Maria del Mar Bonet i Biel Mesquida, amb Dani Espasa, canten i reciten Bartomeu Roselló-Pòrcel i Josep Palau i Fabre
DTSTART;TZID=Europe/Madrid;VALUE=DATE-TIME:20170422T180000
DTEND;TZID=Europe/Madrid;VALUE=DATE-TIME:20170422T190000
DTSTAMP;VALUE=DATE-TIME:20260422T012432Z
UID:996334fa06c6f01a2254e6802bb882cf
CREATED;VALUE=DATE-TIME:20170422T000000Z
CATEGORIES:Literatura,Música
LOCATION:Sala Cultural - 1r pis de l'Ajuntament de Caldes d'Estrac, Pl. de la Vila s/n
ORGANIZER:Fundació Palau
COMMENT:Preu: 10 &euro;
URL:https://caldetes.cat/document.php?id=5792
END:VEVENT
END:VCALENDAR