BEGIN:VCALENDAR
VERSION:2.0
PRODID:-//Plone.org//NONSGML plone.app.event//EN
X-WR-TIMEZONE:Europe/Madrid
BEGIN:VEVENT
SUMMARY:Sant Jordi a la Fundació Palau
DTSTART;TZID=Europe/Madrid;VALUE=DATE-TIME:20170421T101500
DTEND;TZID=Europe/Madrid;VALUE=DATE-TIME:20170421T111500
DTSTAMP;VALUE=DATE-TIME:20260423T062243Z
UID:cf42166b572e35392d5f10c7fe297b45
CREATED;VALUE=DATE-TIME:20170421T000000Z
CATEGORIES:Literatura
LOCATION:Fundació Palau - La Riera, 54
ORGANIZER:Fundació Palau
DESCRIPTION:Celebració de Sant Jordi a la Fundació Palau
URL:https://caldetes.cat/document.php?id=5793
END:VEVENT
END:VCALENDAR