BEGIN:VCALENDAR
VERSION:2.0
PRODID:-//Plone.org//NONSGML plone.app.event//EN
X-WR-TIMEZONE:Europe/Madrid
BEGIN:VEVENT
SUMMARY:Fotografia oficial de la "Generació 2016"
DTSTART;TZID=Europe/Madrid;VALUE=DATE-TIME:20170514T120000
DTEND;TZID=Europe/Madrid;VALUE=DATE-TIME:20170514T130000
DTSTAMP;VALUE=DATE-TIME:20260425T041725Z
UID:b17d647f4b3d2e0acd7b16b508197301
CREATED;VALUE=DATE-TIME:20170514T000000Z
LOCATION:Torre Verda
ORGANIZER:Àrea d'Infància - Ajuntament de Caldes d'Estrac
COMMENT:Preu: Gratuït
DESCRIPTION:Donem la benvinguda als nadons nascuts a Caldes d'Estrac durant l'any 2016
URL:https://caldetes.cat/document.php?id=5796
END:VEVENT
END:VCALENDAR