BEGIN:VCALENDAR
VERSION:2.0
PRODID:-//Plone.org//NONSGML plone.app.event//EN
X-WR-TIMEZONE:Europe/Madrid
BEGIN:VEVENT
SUMMARY:3r Campionat Intermunicipal de Tennis-Taula
DTSTART;TZID=Europe/Madrid;VALUE=DATE-TIME:20100730T000000
DTEND;TZID=Europe/Madrid;VALUE=DATE-TIME:20100730T010000
DTSTAMP;VALUE=DATE-TIME:20260425T160113Z
UID:d0b7087f104caa1da2e9f6b250553492
CREATED;VALUE=DATE-TIME:20100730T000000Z
LOCATION:Espai Jove
ORGANIZER:Àrees de Joventut i Educació
URL:https://caldetes.cat/document.php?id=580
END:VEVENT
END:VCALENDAR