BEGIN:VCALENDAR
VERSION:2.0
PRODID:-//Plone.org//NONSGML plone.app.event//EN
X-WR-TIMEZONE:Europe/Madrid
BEGIN:VEVENT
SUMMARY:Acte d'obertura de l'any Palau i Fabre a Barcelona
DTSTART;TZID=Europe/Madrid;VALUE=DATE-TIME:20170421T120000
DTEND;TZID=Europe/Madrid;VALUE=DATE-TIME:20170421T130000
DTSTAMP;VALUE=DATE-TIME:20260423T130535Z
UID:7ea91707724559fdd103fa21235a0886
CREATED;VALUE=DATE-TIME:20170421T000000Z
CATEGORIES:Literatura
LOCATION:Carrer del Bruc, 99
ORGANIZER:Ajuntament de Barcelona, Districte de l´Eixample, Departament de Cultura, Institut de les Lletres Catalanes, Fundació Palau. Amb la col·laboració de Flors Navarro.
DESCRIPTION:Any Palau i Fabre
URL:https://caldetes.cat/document.php?id=5802
END:VEVENT
END:VCALENDAR