BEGIN:VCALENDAR
VERSION:2.0
PRODID:-//Plone.org//NONSGML plone.app.event//EN
X-WR-TIMEZONE:Europe/Madrid
BEGIN:VEVENT
SUMMARY:Bateig de tren amb el nom de Josep Palau i Fabre
DTSTART;TZID=Europe/Madrid;VALUE=DATE-TIME:20170423T110000
DTEND;TZID=Europe/Madrid;VALUE=DATE-TIME:20170423T120000
DTSTAMP;VALUE=DATE-TIME:20260424T160421Z
UID:bc24d9d8e6b4d6814fb8910677f39776
CREATED;VALUE=DATE-TIME:20170423T000000Z
CATEGORIES:Conferència
LOCATION:Estació de FGC de Plaça Catalunya (Barcelona)
ORGANIZER:Ferrocarrils de la Generalitat de Catalunya i Institució de les Lletres Catalanes
DESCRIPTION:Any Palau i Fabre
URL:https://caldetes.cat/document.php?id=5804
END:VEVENT
END:VCALENDAR