BEGIN:VCALENDAR
VERSION:2.0
PRODID:-//Plone.org//NONSGML plone.app.event//EN
X-WR-TIMEZONE:Europe/Madrid
BEGIN:VEVENT
SUMMARY:III Congrès Internacional. Picasso i identitat
DTSTART;TZID=Europe/Madrid;VALUE=DATE-TIME:20170429T100000
DTEND;TZID=Europe/Madrid;VALUE=DATE-TIME:20170429T110000
DTSTAMP;VALUE=DATE-TIME:20260424T031042Z
UID:646e7110b42d6421e2848fde10df83c9
CREATED;VALUE=DATE-TIME:20170429T000000Z
CATEGORIES:Exposició,Mostra,Conferència
LOCATION:Fundació Palau - La Riera, 54
ORGANIZER:Fundació Palau i Museu Picasso
COMMENT:Durada: De 10:30 a 16:30
URL:https://caldetes.cat/document.php?id=5805
END:VEVENT
END:VCALENDAR