BEGIN:VCALENDAR
VERSION:2.0
PRODID:-//Plone.org//NONSGML plone.app.event//EN
X-WR-TIMEZONE:Europe/Madrid
BEGIN:VEVENT
SUMMARY:PROMOCIÓ SANT JORDI 2017
DTSTART;TZID=Europe/Madrid;VALUE=DATE-TIME:20170423T000000
DTEND;TZID=Europe/Madrid;VALUE=DATE-TIME:20170423T010000
DTSTAMP;VALUE=DATE-TIME:20260423T175206Z
UID:5bb701cc6e95df6aecb44c01427c4edf
CREATED;VALUE=DATE-TIME:20170421T000000Z
CATEGORIES:Esports
LOCATION:Complex Esportiu Municipal
ORGANIZER:Sige 2005, s.l.
DESCRIPTION:Diada de llibres, roses, amor i... ESPORT!
URL:https://caldetes.cat/document.php?id=5812
END:VEVENT
END:VCALENDAR