BEGIN:VCALENDAR
VERSION:2.0
PRODID:-//Plone.org//NONSGML plone.app.event//EN
X-WR-TIMEZONE:Europe/Madrid
BEGIN:VEVENT
SUMMARY:Parada de Productes de l'Índia
DTSTART;TZID=Europe/Madrid;VALUE=DATE-TIME:20100704T110000
DTEND;TZID=Europe/Madrid;VALUE=DATE-TIME:20100704T120000
DTSTAMP;VALUE=DATE-TIME:20260425T181400Z
UID:93cc20a9af177a346a5c2e299abb3451
CREATED;VALUE=DATE-TIME:20100704T000000Z
LOCATION:Parc Joan Maragall
ORGANIZER:Associació "El Somriure dels Nens"
COMMENT:Durada: 3:30 hores
URL:https://caldetes.cat/document.php?id=582
END:VEVENT
END:VCALENDAR