BEGIN:VCALENDAR
VERSION:2.0
PRODID:-//Plone.org//NONSGML plone.app.event//EN
X-WR-TIMEZONE:Europe/Madrid
BEGIN:VEVENT
SUMMARY:Festival Poesia i +
DTSTART;TZID=Europe/Madrid;VALUE=DATE-TIME:20100704T190000
DTEND;TZID=Europe/Madrid;VALUE=DATE-TIME:20100704T200000
DTSTAMP;VALUE=DATE-TIME:20260426T044518Z
UID:970e779fd93d637b1900cc349e92ac0e
CREATED;VALUE=DATE-TIME:20100704T000000Z
LOCATION:Fundació Palau
ORGANIZER:Fundació Palau i Ajuntament de Caldes d'Estrac amb el suport de la Institució de les Lletres Catalanes de la Generalitat de Catalunya
COMMENT:Preu: gratuït
DESCRIPTION:PICASSO POR LOS PELOS.Cia. La mar de marionetas
URL:https://caldetes.cat/document.php?id=583
END:VEVENT
END:VCALENDAR