BEGIN:VCALENDAR
VERSION:2.0
PRODID:-//Plone.org//NONSGML plone.app.event//EN
X-WR-TIMEZONE:Europe/Madrid
BEGIN:VEVENT
SUMMARY:PROMOCIÓ MAIG 2017
DTSTART;TZID=Europe/Madrid;VALUE=DATE-TIME:20170501T000000
DTEND;TZID=Europe/Madrid;VALUE=DATE-TIME:20170501T010000
DTSTAMP;VALUE=DATE-TIME:20260425T231320Z
UID:d0a4c132a59c657030de9e5e1c7ce3bb
CREATED;VALUE=DATE-TIME:20170501T000000Z
CATEGORIES:Esports
LOCATION:Complex Esportiu Municipal
ORGANIZER:Sige 2005, s.l.
DESCRIPTION:AFEGEIX-T'HI!
URL:https://caldetes.cat/document.php?id=5830
END:VEVENT
END:VCALENDAR