BEGIN:VCALENDAR
VERSION:2.0
PRODID:-//Plone.org//NONSGML plone.app.event//EN
X-WR-TIMEZONE:Europe/Madrid
BEGIN:VEVENT
SUMMARY:Festival Poesia i +
DTSTART;TZID=Europe/Madrid;VALUE=DATE-TIME:20100704T210000
DTEND;TZID=Europe/Madrid;VALUE=DATE-TIME:20100704T220000
DTSTAMP;VALUE=DATE-TIME:20260425T132153Z
UID:452549356d7e0ac1cce201d4d1518bba
CREATED;VALUE=DATE-TIME:20100704T000000Z
LOCATION:Pèrgola Can Muntanyà
ORGANIZER:Fundació Palau i Ajuntament de Caldes d'Estrac amb el suport de la Institució de les Lletres Catalanes de la Generalitat de Catalunya
COMMENT:Preu: 6 &euro;
DESCRIPTION:COM LA VEU DE L'AIGUA. EnVers canta Màrius Torres
URL:https://caldetes.cat/document.php?id=584
END:VEVENT
END:VCALENDAR