BEGIN:VCALENDAR
VERSION:2.0
PRODID:-//Plone.org//NONSGML plone.app.event//EN
X-WR-TIMEZONE:Europe/Madrid
BEGIN:VEVENT
SUMMARY:EXPOSICIÓ JO SÓC EL MEU PROPI EXPERIMENT
DTSTART;TZID=Europe/Madrid;VALUE=DATE-TIME:20170518T193000
DTEND;TZID=Europe/Madrid;VALUE=DATE-TIME:20170518T203000
DTSTAMP;VALUE=DATE-TIME:20260425T051223Z
UID:cea9362958f46a981a7c62692b5deb2e
CREATED;VALUE=DATE-TIME:20170518T000000Z
CATEGORIES:Exposició
LOCATION:Fundació Palau - La Riera, 54
ORGANIZER:Fundació Palau
DESCRIPTION:Inauguració
URL:https://caldetes.cat/document.php?id=5848
END:VEVENT
END:VCALENDAR