BEGIN:VCALENDAR
VERSION:2.0
PRODID:-//Plone.org//NONSGML plone.app.event//EN
X-WR-TIMEZONE:Europe/Madrid
BEGIN:VEVENT
SUMMARY:Festival Poesia i +  a Barcelona
DTSTART;TZID=Europe/Madrid;VALUE=DATE-TIME:20100707T193000
DTEND;TZID=Europe/Madrid;VALUE=DATE-TIME:20100707T203000
DTSTAMP;VALUE=DATE-TIME:20260424T173457Z
UID:9720c28e5911ef341740ad7590593740
CREATED;VALUE=DATE-TIME:20100707T000000Z
LOCATION:Auditori del Centre Cultural del Cercle de Lectors, C/ Consell de Cent, 323 (Barcelona) - Centre Cultural del Cercle de Lectors, C/ Consell de Cent, 323 (Barcelona)
ORGANIZER:Fundació Palau i Ajuntament de Caldes d'Estrac amb el suport de la Institució de les Lletres Catalanes de la Generalitat de Catalunya
COMMENT:Preu: gratuït
DESCRIPTION:Salvat-Papasseit i el mar
URL:https://caldetes.cat/document.php?id=586
END:VEVENT
END:VCALENDAR