BEGIN:VCALENDAR
VERSION:2.0
PRODID:-//Plone.org//NONSGML plone.app.event//EN
X-WR-TIMEZONE:Europe/Madrid
BEGIN:VEVENT
SUMMARY:No oblidem els refugiats
DTSTART;TZID=Europe/Madrid;VALUE=DATE-TIME:20170520T110000
DTEND;TZID=Europe/Madrid;VALUE=DATE-TIME:20170520T120000
DTSTAMP;VALUE=DATE-TIME:20260423T072148Z
UID:4ea9d0a00297eafb62edef4a2f74de74
CREATED;VALUE=DATE-TIME:20170520T000000Z
ORGANIZER:Plataforma Cívica de Caldes d'Estrac
COMMENT:Durada: A partir de les 11h
DESCRIPTION:Vine, participa-hi i fes un donatiu a favor de Proactiva Open Arms
URL:https://caldetes.cat/document.php?id=5874
END:VEVENT
END:VCALENDAR