BEGIN:VCALENDAR
VERSION:2.0
PRODID:-//Plone.org//NONSGML plone.app.event//EN
X-WR-TIMEZONE:Europe/Madrid
BEGIN:VEVENT
SUMMARY:Entrenaments Oberts a tothom Corredors 3Viles
DTSTART;TZID=Europe/Madrid;VALUE=DATE-TIME:20170731T193000
DTEND;TZID=Europe/Madrid;VALUE=DATE-TIME:20170731T203000
DTSTAMP;VALUE=DATE-TIME:20260421T005705Z
UID:4f8a333aab91fe685ec20e9ca9366fd1
CREATED;VALUE=DATE-TIME:20170522T000000Z
CATEGORIES:Esports
LOCATION:Plaça de les Barques
ORGANIZER:Club Esportiu Mestral
COMMENT:Preu: Gratuit
Durada: Els dilluns i dimecres de tot l'any
DESCRIPTION:Sessions gratuïtes amb preparador físic personal
URL:https://caldetes.cat/document.php?id=5891
END:VEVENT
END:VCALENDAR