BEGIN:VCALENDAR
VERSION:2.0
PRODID:-//Plone.org//NONSGML plone.app.event//EN
X-WR-TIMEZONE:Europe/Madrid
BEGIN:VEVENT
SUMMARY:Hora del conte amb pa amb xocolata
DTSTART;TZID=Europe/Madrid;VALUE=DATE-TIME:20170728T190000
DTEND;TZID=Europe/Madrid;VALUE=DATE-TIME:20170728T200000
DTSTAMP;VALUE=DATE-TIME:20260424T160142Z
UID:5730e1b4cd22d2ffa55be85fdd62787e
CREATED;VALUE=DATE-TIME:20170728T000000Z
CATEGORIES:Literatura,Infantils
LOCATION:Al'exterior de la Biblioteca Can Milans - C/ Esglèsia, 6
ORGANIZER:Biblioteca Can Milans
DESCRIPTION:A càrrec de Sherezade
URL:https://caldetes.cat/document.php?id=5902
END:VEVENT
END:VCALENDAR