BEGIN:VCALENDAR
VERSION:2.0
PRODID:-//Plone.org//NONSGML plone.app.event//EN
X-WR-TIMEZONE:Europe/Madrid
BEGIN:VEVENT
SUMMARY:Sortim a passejar
DTSTART;TZID=Europe/Madrid;VALUE=DATE-TIME:20100714T000000
DTEND;TZID=Europe/Madrid;VALUE=DATE-TIME:20100714T010000
DTSTAMP;VALUE=DATE-TIME:20260425T132138Z
UID:84feb719afd4023093f994f99f2d56cd
CREATED;VALUE=DATE-TIME:20100714T000000Z
ORGANIZER:Regidoria Serveis Socials Ajuntament de Caldes d´Estrac
URL:https://caldetes.cat/document.php?id=594
END:VEVENT
END:VCALENDAR