BEGIN:VCALENDAR
VERSION:2.0
PRODID:-//Plone.org//NONSGML plone.app.event//EN
X-WR-TIMEZONE:Europe/Madrid
BEGIN:VEVENT
SUMMARY:FESTIVAL POESIA I +. Del 6 al 16 de juliol.
DTSTART;TZID=Europe/Madrid;VALUE=DATE-TIME:20170707T210000
DTEND;TZID=Europe/Madrid;VALUE=DATE-TIME:20170707T220000
DTSTAMP;VALUE=DATE-TIME:20260425T122423Z
UID:2b45c4dcd6169b362f9669e91ea719f4
CREATED;VALUE=DATE-TIME:20170707T000000Z
CATEGORIES:Música
LOCATION:Mataró (A confirmar, mirar el web o programa)
ORGANIZER:Fundació Palau i Ajuntament de Caldes d'Estrac
COMMENT:Preu: Gratuït
DESCRIPTION:DENTS DEL SEGLE. Maria Sevilla i Guim Valls
URL:https://caldetes.cat/document.php?id=5959
END:VEVENT
END:VCALENDAR