BEGIN:VCALENDAR
VERSION:2.0
PRODID:-//Plone.org//NONSGML plone.app.event//EN
X-WR-TIMEZONE:Europe/Madrid
BEGIN:VEVENT
SUMMARY:CAMPANYA DONACIÓ DE SANG
DTSTART;TZID=Europe/Madrid;VALUE=DATE-TIME:20170709T100000
DTEND;TZID=Europe/Madrid;VALUE=DATE-TIME:20170709T110000
DTSTAMP;VALUE=DATE-TIME:20260424T054614Z
UID:623dc50060ab4440d5739f780561a5ad
CREATED;VALUE=DATE-TIME:20170709T000000Z
LOCATION:PLAÇA DE LES BARQUES
ORGANIZER:BANC DE SANG I TEIXITS
COMMENT:Durada: 10.00H A 14.00H
DESCRIPTION:LA TEVA SANG DIU COSES. COMPARTEIX-LES!!
URL:https://caldetes.cat/document.php?id=5989
END:VEVENT
END:VCALENDAR