BEGIN:VCALENDAR
VERSION:2.0
PRODID:-//Plone.org//NONSGML plone.app.event//EN
X-WR-TIMEZONE:Europe/Madrid
BEGIN:VEVENT
SUMMARY:Taller de creació d'OFNIS
DTSTART;TZID=Europe/Madrid;VALUE=DATE-TIME:20100728T180000
DTEND;TZID=Europe/Madrid;VALUE=DATE-TIME:20100728T190000
DTSTAMP;VALUE=DATE-TIME:20260426T033505Z
UID:e5c337472f2717e768baaa2a59e4c5ea
CREATED;VALUE=DATE-TIME:20100728T000000Z
LOCATION:Espai Jove
ORGANIZER:Espai Jove
URL:https://caldetes.cat/document.php?id=599
END:VEVENT
END:VCALENDAR