BEGIN:VCALENDAR
VERSION:2.0
PRODID:-//Plone.org//NONSGML plone.app.event//EN
X-WR-TIMEZONE:Europe/Madrid
BEGIN:VEVENT
SUMMARY:Presentació del llibre "Sombras"
DTSTART;TZID=Europe/Madrid;VALUE=DATE-TIME:20170804T190000
DTEND;TZID=Europe/Madrid;VALUE=DATE-TIME:20170804T200000
DTSTAMP;VALUE=DATE-TIME:20260424T112707Z
UID:7d1d276b8d35ef8bbe008bdfefd491ea
CREATED;VALUE=DATE-TIME:20170804T000000Z
CATEGORIES:Literatura
LOCATION:Biblioteca Can Milans - C/ Esglèsia, 6
ORGANIZER:Biblioteca Can Milans
DESCRIPTION:A càrrec de la seva autora Maribel Bueno
URL:https://caldetes.cat/document.php?id=6032
END:VEVENT
END:VCALENDAR