BEGIN:VCALENDAR
VERSION:2.0
PRODID:-//Plone.org//NONSGML plone.app.event//EN
X-WR-TIMEZONE:Europe/Madrid
BEGIN:VEVENT
SUMMARY:Tennis Taula a la fresca
DTSTART;TZID=Europe/Madrid;VALUE=DATE-TIME:20170721T170000
DTEND;TZID=Europe/Madrid;VALUE=DATE-TIME:20170721T180000
DTSTAMP;VALUE=DATE-TIME:20260425T123320Z
UID:1a9423cc68d87fa3f3b35f7a6d67fe5a
CREATED;VALUE=DATE-TIME:20170721T000000Z
LOCATION:Parc Joan Maragall
DESCRIPTION:Torneig juvenil
URL:https://caldetes.cat/document.php?id=6035
END:VEVENT
END:VCALENDAR