BEGIN:VCALENDAR
VERSION:2.0
PRODID:-//Plone.org//NONSGML plone.app.event//EN
X-WR-TIMEZONE:Europe/Madrid
BEGIN:VEVENT
SUMMARY:Torneig 30 Aniversari Club Petanca Caldes d'Estrac
DTSTART;TZID=Europe/Madrid;VALUE=DATE-TIME:20100718T000000
DTEND;TZID=Europe/Madrid;VALUE=DATE-TIME:20100718T010000
DTSTAMP;VALUE=DATE-TIME:20260424T190308Z
UID:e1fe89687734066e82f85ab8a316be77
CREATED;VALUE=DATE-TIME:20100718T000000Z
LOCATION:Pistes Municipals de Petanca
ORGANIZER:Club Petanca Caldes d'Estrac
URL:https://caldetes.cat/document.php?id=610
END:VEVENT
END:VCALENDAR