BEGIN:VCALENDAR
VERSION:2.0
PRODID:-//Plone.org//NONSGML plone.app.event//EN
X-WR-TIMEZONE:Europe/Madrid
BEGIN:VEVENT
SUMMARY:Festival Poesia i +
DTSTART;TZID=Europe/Madrid;VALUE=DATE-TIME:20100718T210000
DTEND;TZID=Europe/Madrid;VALUE=DATE-TIME:20100718T220000
DTSTAMP;VALUE=DATE-TIME:20260425T013102Z
UID:766ab60b47479c2032d91e04251f1f27
CREATED;VALUE=DATE-TIME:20100718T000000Z
LOCATION:Fundació Palau
ORGANIZER:Fundació Palau i Ajuntament de Caldes d'Estrac amb el suport de la Institució de les Lletres Catalanes de la Generalitat de Catalunya
COMMENT:Preu: 6 &euro;
DESCRIPTION:COM SI ENTRÉS EN UNA PÀTRIA. Cia. L´Arrencacors. Any Maragall
URL:https://caldetes.cat/document.php?id=611
END:VEVENT
END:VCALENDAR