BEGIN:VCALENDAR
VERSION:2.0
PRODID:-//Plone.org//NONSGML plone.app.event//EN
X-WR-TIMEZONE:Europe/Madrid
BEGIN:VEVENT
SUMMARY:Festival Poesia i +
DTSTART;TZID=Europe/Madrid;VALUE=DATE-TIME:20100718T190000
DTEND;TZID=Europe/Madrid;VALUE=DATE-TIME:20100718T200000
DTSTAMP;VALUE=DATE-TIME:20260425T054023Z
UID:39b898b65a362ecfdba6ee627b789cf8
CREATED;VALUE=DATE-TIME:20100718T000000Z
LOCATION:Sala Cultural
ORGANIZER:Fundació Palau i Ajuntament de Caldes d'Estrac amb el suport de la Institució de les Lletres Catalanes de la Generalitat de Catalunya
COMMENT:Preu: gratuït
DESCRIPTION:LA TEMPESTA de William Shakespeare. Cia. Príncep Totilau
URL:https://caldetes.cat/document.php?id=612
END:VEVENT
END:VCALENDAR