BEGIN:VCALENDAR
VERSION:2.0
PRODID:-//Plone.org//NONSGML plone.app.event//EN
X-WR-TIMEZONE:Europe/Madrid
BEGIN:VEVENT
SUMMARY:Taller: "Som creatius"
DTSTART;TZID=Europe/Madrid;VALUE=DATE-TIME:20100706T160000
DTEND;TZID=Europe/Madrid;VALUE=DATE-TIME:20100706T170000
DTSTAMP;VALUE=DATE-TIME:20260425T051352Z
UID:a317eae98042d47aa16748429c27837f
CREATED;VALUE=DATE-TIME:20100706T000000Z
LOCATION:Sala Cultural
ORGANIZER:Àrea de Serveis Socials
DESCRIPTION:a càrrec de Pilar de Vilar, psicòloga
URL:https://caldetes.cat/document.php?id=621
END:VEVENT
END:VCALENDAR