BEGIN:VCALENDAR
VERSION:2.0
PRODID:-//Plone.org//NONSGML plone.app.event//EN
X-WR-TIMEZONE:Europe/Madrid
BEGIN:VEVENT
SUMMARY:Taller: "Som creatius"
DTSTART;TZID=Europe/Madrid;VALUE=DATE-TIME:20100713T160000
DTEND;TZID=Europe/Madrid;VALUE=DATE-TIME:20100713T170000
DTSTAMP;VALUE=DATE-TIME:20260423T235308Z
UID:4ab4a87809781e902957121813578f5d
CREATED;VALUE=DATE-TIME:20100713T000000Z
LOCATION:Sala Cultural
ORGANIZER:Àrea de Serveis Socials
DESCRIPTION:a càrrec de Pilar de Vilar, psicòloga
URL:https://caldetes.cat/document.php?id=622
END:VEVENT
END:VCALENDAR