BEGIN:VCALENDAR
VERSION:2.0
PRODID:-//Plone.org//NONSGML plone.app.event//EN
X-WR-TIMEZONE:Europe/Madrid
BEGIN:VEVENT
SUMMARY:Taller: "Som creatius"
DTSTART;TZID=Europe/Madrid;VALUE=DATE-TIME:20100720T160000
DTEND;TZID=Europe/Madrid;VALUE=DATE-TIME:20100720T170000
DTSTAMP;VALUE=DATE-TIME:20260426T032731Z
UID:ed4cf41160d7da54e913907d5dd00df2
CREATED;VALUE=DATE-TIME:20100720T000000Z
LOCATION:Sala Cultural
ORGANIZER:Àrea de Serveis Socials
DESCRIPTION:a càrrec de Pilar de Vilar, psicòloga
URL:https://caldetes.cat/document.php?id=623
END:VEVENT
END:VCALENDAR