BEGIN:VCALENDAR
VERSION:2.0
PRODID:-//Plone.org//NONSGML plone.app.event//EN
X-WR-TIMEZONE:Europe/Madrid
BEGIN:VEVENT
SUMMARY:EXPOSICIÓ DE PINTURES: "Pensaments de dona..."
DTSTART;TZID=Europe/Madrid;VALUE=DATE-TIME:20100709T173000
DTEND;TZID=Europe/Madrid;VALUE=DATE-TIME:20100709T183000
DTSTAMP;VALUE=DATE-TIME:20260424T203118Z
UID:d40c8dda8a9307906a24a3900c94ba97
CREATED;VALUE=DATE-TIME:20100709T000000Z
LOCATION:Equipament de Promoció Econòmica i Cultural
ORGANIZER:Amb la col·laboració de l'Associació "El Somriure dels nens" i l'Ajuntament de Caldes d'Estrac
DESCRIPTION:a càrrec d'Eva i Marta Monràs
URL:https://caldetes.cat/document.php?id=627
END:VEVENT
END:VCALENDAR